BEGIN:VCALENDAR
VERSION:2.0
PRODID:-//Peak Cellars - ECPv6.14.1//NONSGML v1.0//EN
CALSCALE:GREGORIAN
METHOD:PUBLISH
X-WR-CALNAME:Peak Cellars
X-ORIGINAL-URL:https://peakcellars.com
X-WR-CALDESC:Events for Peak Cellars
REFRESH-INTERVAL;VALUE=DURATION:PT1H
X-Robots-Tag:noindex
X-PUBLISHED-TTL:PT1H
BEGIN:VTIMEZONE
TZID:UTC
BEGIN:STANDARD
TZOFFSETFROM:+0000
TZOFFSETTO:+0000
TZNAME:UTC
DTSTART:20250101T000000
END:STANDARD
END:VTIMEZONE
BEGIN:VEVENT
DTSTART;TZID=UTC:20250514T180000
DTEND;TZID=UTC:20250514T200000
DTSTAMP:20260419T171907
CREATED:20250429T000154Z
LAST-MODIFIED:20250501T210952Z
UID:3144-1747245600-1747252800@peakcellars.com
SUMMARY:Live Music with Dave Coalmine
DESCRIPTION:The Peak Cellars Summer Concert Series \nEvery Wednesday (6:00pm – 8:00pm) & Sunday (2:00pm – 4:00pm) \nNo Ticket Required\, Reservation Recommended
URL:https://peakcellars.com/event/dave-coalmine/
LOCATION:Peak Cellars\, 2290 Goldie Rd\, Lake Country\, BC\, V4V 1G5\, Canada
CATEGORIES:Live Music
END:VEVENT
BEGIN:VEVENT
DTSTART;TZID=UTC:20250515T170000
DTEND;TZID=UTC:20250515T200000
DTSTAMP:20260419T171907
CREATED:20250429T000057Z
LAST-MODIFIED:20250429T000057Z
UID:3142-1747328400-1747339200@peakcellars.com
SUMMARY:Artist Boutique Night
DESCRIPTION:Enjoy an eclectic artist in motion as live ambiance art brings inspiration to energize and illuminate your dining experience \nUnique\, Innovative Live Art \nwith Jada Fire Kalika
URL:https://peakcellars.com/event/artist-boutique-night-2/
LOCATION:Peak Cellars\, 2290 Goldie Rd\, Lake Country\, BC\, V4V 1G5\, Canada
END:VEVENT
BEGIN:VEVENT
DTSTART;TZID=UTC:20250518T140000
DTEND;TZID=UTC:20250518T160000
DTSTAMP:20260419T171907
CREATED:20250501T210819Z
LAST-MODIFIED:20250501T210819Z
UID:4039-1747576800-1747584000@peakcellars.com
SUMMARY:Live Music with Nicole Kraft
DESCRIPTION:The Peak Cellars Summer Concert Series \nEvery Wednesday (6:00pm – 8:00pm) & Sunday (2:00pm – 4:00pm) \nNo Ticket Required\, Reservation Recommended \nJazz With Peggy – Classic vocal jazz in the style of the Duchess of Jazz herself\, Miss Peggy Lee\, as performed in tribute by Nicole Kraft. \nIf anyone knows a swinging jazz party\, it’s Miss Peggy Lee! And she is so pleased to bring the melodic journeys of The Great American Jazz Songbook\, and her own sassy songbook\, to life once again and straight to your ears and hearts. If there’s a Big Spender out there\, Miss Peggy will find you and croon your favourite classic melodies like you never knew she could. Old Hollywood glamour has come to Peak Cellars for your musical enjoyment with Jazz With Peggy.
URL:https://peakcellars.com/event/live-music-with-nicole-kraft/
LOCATION:Peak Cellars\, 2290 Goldie Rd\, Lake Country\, BC\, V4V 1G5\, Canada
CATEGORIES:Live Music
END:VEVENT
BEGIN:VEVENT
DTSTART;VALUE=DATE:20250521
DTEND;VALUE=DATE:20250609
DTSTAMP:20260419T171907
CREATED:20250501T212542Z
LAST-MODIFIED:20250501T212542Z
UID:4054-1747785600-1749427199@peakcellars.com
SUMMARY:Taste Around Patios
DESCRIPTION:
URL:https://peakcellars.com/event/taste-around-patios/
LOCATION:Peak Cellars\, 2290 Goldie Rd\, Lake Country\, BC\, V4V 1G5\, Canada
END:VEVENT
BEGIN:VEVENT
DTSTART;TZID=UTC:20250521T180000
DTEND;TZID=UTC:20250521T200000
DTSTAMP:20260419T171907
CREATED:20250501T211523Z
LAST-MODIFIED:20250501T211523Z
UID:4044-1747850400-1747857600@peakcellars.com
SUMMARY:Live Music with Ray Doucet
DESCRIPTION:The Peak Cellars Summer Concert Series \nEvery Wednesday (6:00pm – 8:00pm) & Sunday (2:00pm – 4:00pm) \nNo Ticket Required\, Reservation Recommended \nArtist Bio: \nRay Doucet plays hit after hit on acoustic guitar. Hits by The Eagles and The Beatles. Paul Simon and James Taylor\, Old Motown by The Temptations and newer rock and country songs by the likes of George Ezra or Shaboozey. Tunes people love to sing a long with or just sit and listen while sipping a local wine made by Peak Cellars Winery. Taking requests of all your favourite Classic Rock songs.
URL:https://peakcellars.com/event/live-music-with-ray-doucet/
LOCATION:Peak Cellars\, 2290 Goldie Rd\, Lake Country\, BC\, V4V 1G5\, Canada
CATEGORIES:Live Music
END:VEVENT
BEGIN:VEVENT
DTSTART;TZID=UTC:20250525T140000
DTEND;TZID=UTC:20250525T160000
DTSTAMP:20260419T171907
CREATED:20250501T211733Z
LAST-MODIFIED:20250501T211733Z
UID:4047-1748181600-1748188800@peakcellars.com
SUMMARY:Live Music with Tina Hebner
DESCRIPTION:The Peak Cellars Summer Concert Series \nEvery Wednesday (6:00pm – 8:00pm) & Sunday (2:00pm – 4:00pm) \nNo Ticket Required\, Reservation Recommended
URL:https://peakcellars.com/event/live-music-with-tina-hebner/
LOCATION:Peak Cellars\, 2290 Goldie Rd\, Lake Country\, BC\, V4V 1G5\, Canada
CATEGORIES:Live Music
END:VEVENT
BEGIN:VEVENT
DTSTART;TZID=UTC:20250528T180000
DTEND;TZID=UTC:20250528T200000
DTSTAMP:20260419T171907
CREATED:20250501T212009Z
LAST-MODIFIED:20250501T212009Z
UID:4049-1748455200-1748462400@peakcellars.com
SUMMARY:Live Music with The Carr Family Band
DESCRIPTION:The Peak Cellars Summer Concert Series \nEvery Wednesday (6:00pm – 8:00pm) & Sunday (2:00pm – 4:00pm) \nNo Ticket Required\, Reservation Recommended \nArtist Bio: \nThe Carr Family Band are a husband and wife duo hailing from Lake Country. They deliver an upbeat mix of cover songs from timeless classics to current hits. Steve’s guitar and vocals blend seamlessly with Becky’s piano and harmonies\, creating a fun and engaging performance that will have audiences singing along. \n 
URL:https://peakcellars.com/event/live-music-with-the-carr-family-band/
LOCATION:Peak Cellars\, 2290 Goldie Rd\, Lake Country\, BC\, V4V 1G5\, Canada
CATEGORIES:Live Music
END:VEVENT
BEGIN:VEVENT
DTSTART;TZID=UTC:20250529T170000
DTEND;TZID=UTC:20250529T193000
DTSTAMP:20260419T171907
CREATED:20250501T212059Z
LAST-MODIFIED:20250501T212059Z
UID:4052-1748538000-1748547000@peakcellars.com
SUMMARY:Spring Winemaker's Dinner
DESCRIPTION:Details Coming Soon….
URL:https://peakcellars.com/event/spring-winemakers-dinner/
LOCATION:Peak Cellars\, 2290 Goldie Rd\, Lake Country\, BC\, V4V 1G5\, Canada
END:VEVENT
BEGIN:VEVENT
DTSTART;TZID=UTC:20250601T103000
DTEND;TZID=UTC:20250601T120000
DTSTAMP:20260419T171907
CREATED:20250507T212152Z
LAST-MODIFIED:20250507T212307Z
UID:4172-1748773800-1748779200@peakcellars.com
SUMMARY:Vino & Vinyasa with Jada Fire Kalika
DESCRIPTION:Outdoor yoga returns! Join us on select Sunday mornings this spring and summer for a 1.5-hour energizing flow session overlooking the vineyard\, capped off with a well-deserved glass of wine. Keep the relaxation going in our Garden Bistro afterward!
URL:https://peakcellars.com/event/vino-vinyasa-with-jada-fire-kalika-2/
LOCATION:Peak Cellars\, 2290 Goldie Rd\, Lake Country\, BC\, V4V 1G5\, Canada
END:VEVENT
BEGIN:VEVENT
DTSTART;TZID=UTC:20250601T140000
DTEND;TZID=UTC:20250601T160000
DTSTAMP:20260419T171907
CREATED:20250507T213902Z
LAST-MODIFIED:20250507T214551Z
UID:4180-1748786400-1748793600@peakcellars.com
SUMMARY:Live Music with Marsha Thompson
DESCRIPTION:The Peak Cellars Summer Concert Series \nEvery Wednesday (6:00pm – 8:00pm) & Sunday (2:00pm – 4:00pm) \nNo Ticket Required\, Reservation Recommended \nArtist Bio: \nMarsha Thompson is a singer and songwriter from the Okanagan Valley in British Columbia. Her captivating original songs transport the listener\nto a world of love\, both held and lost\, colourful British Columbia history\, often with a touch of humour. \nMarsha’s warm alto stylings resonate as each tune tells its own story. Inspired by nature’s beauty\, her poetic lyrics and personable performance style have endeared her to listeners throughout B.C. and abroad. \nThree studio albums\, most notably Marsha’s recent release of “Wishing on Stars”\, have reached a wide audience of country/folk fans. \nMarsha performs as a solo artist\, but is often accompanied by the tasteful bass and harmonies of Ellie Young\, and the rhythmic drum beat\nof Tyler Thompson. This trio brings music that taps the toes and relates to the soul. \nBob Riley of Willie Nelson’s band\, says:\n“Marsha Thompson is one of those rare combinations of Writer/Artist that will touch your heart with her poetic renditions and will impress even people like myself that have been around for years in the business. Her music is hard to put in a single category since it will appeal to listeners of all genres. Give a listen and you too will love her as I do.” \nMarsha’s music is available on Spotify\, Apple Music\, Amazon Music\, iTunes\, YouTube\, and other streaming platforms. \n 
URL:https://peakcellars.com/event/live-music-with-marsha-thompson/
LOCATION:Peak Cellars\, 2290 Goldie Rd\, Lake Country\, BC\, V4V 1G5\, Canada
END:VEVENT
BEGIN:VEVENT
DTSTART;TZID=UTC:20250604T180000
DTEND;TZID=UTC:20250604T200000
DTSTAMP:20260419T171907
CREATED:20250507T214927Z
LAST-MODIFIED:20250507T214927Z
UID:4183-1749060000-1749067200@peakcellars.com
SUMMARY:Live Music with Bruce McAuliffe
DESCRIPTION:The Peak Cellars Summer Concert Series \nEvery Wednesday (6:00pm – 8:00pm) & Sunday (2:00pm – 4:00pm) \nNo Ticket Required\, Reservation Recommended \nArtist Bio: \nI have enjoyed playing music most of my life for family and friends. Now retired\, I am living in Lake Country and pursuing a life long passion of playing my guitar and singing to audiences everywhere! \nOver the past two years\, I have primarily been playing at Senior Residences and I have developed a wide range of songs that appeal to both Classic Country and Classic Rock listeners. \nI am Makin’ Up Time and believe… \nOne song can bring back a thousand memories! 
URL:https://peakcellars.com/event/live-music-with-bruce-mcauliffe/
LOCATION:Peak Cellars\, 2290 Goldie Rd\, Lake Country\, BC\, V4V 1G5\, Canada
END:VEVENT
BEGIN:VEVENT
DTSTART;TZID=UTC:20250608T140000
DTEND;TZID=UTC:20250608T160000
DTSTAMP:20260419T171907
CREATED:20250507T215721Z
LAST-MODIFIED:20250507T215721Z
UID:4186-1749391200-1749398400@peakcellars.com
SUMMARY:Rosé Release Party
DESCRIPTION:Details coming soon!
URL:https://peakcellars.com/event/rose-release-party/
LOCATION:Peak Cellars\, 2290 Goldie Rd\, Lake Country\, BC\, V4V 1G5\, Canada
END:VEVENT
BEGIN:VEVENT
DTSTART;TZID=UTC:20250608T140000
DTEND;TZID=UTC:20250608T160000
DTSTAMP:20260419T171907
CREATED:20250507T215900Z
LAST-MODIFIED:20250507T215900Z
UID:4188-1749391200-1749398400@peakcellars.com
SUMMARY:Live Music with Jon Bos
DESCRIPTION:The Peak Cellars Summer Concert Series \nEvery Wednesday (6:00pm – 8:00pm) & Sunday (2:00pm – 4:00pm) \nNo Ticket Required\, Reservation Recommended \nArtist Bio: \nJon Bos has worked around the world for decades and is the consummate professional\, with shows in Bali\, Bangkok\, Australia\, across Canada and the USA.\nJon plays to the room and his absolutely huge repertoire ensures his ability to cater precisely to the taste of the audience.\nThe show is interactive & entertaining and often Jon can be found in the audience playing guitar with someone’s wine glass or beer bottle on his wireless wander around the room.\nJon plays classic and modern rock & roll\, blues\, country\, high energy rockers and dance floor fillers as well as mellow\, groovy\, easy-listening classics.
URL:https://peakcellars.com/event/live-music-with-jon-bos/
LOCATION:Peak Cellars\, 2290 Goldie Rd\, Lake Country\, BC\, V4V 1G5\, Canada
END:VEVENT
BEGIN:VEVENT
DTSTART;TZID=UTC:20250611T180000
DTEND;TZID=UTC:20250611T200000
DTSTAMP:20260419T171907
CREATED:20250507T220215Z
LAST-MODIFIED:20250507T220215Z
UID:4191-1749664800-1749672000@peakcellars.com
SUMMARY:Live Music with Jeff Piattelli
DESCRIPTION:The Peak Cellars Summer Concert Series \nEvery Wednesday (6:00pm – 8:00pm) & Sunday (2:00pm – 4:00pm) \nNo Ticket Required\, Reservation Recommended \nArtist Bio: \nJeff Piattelli is a professional Musician out of Kelowna\, B.C. He is one of the top guitarists in Canada and has an unforgettable voice that suits any venue.. He writes and performs original music while also playing his take on popular covers using live\, on the spot looping. Jeff creates everything you hear right in front of you; filling out the room with his well known smooth and tasteful guitar playing. While he has released three studio albums; with influences from the likes of John Mayer\, Jack Johnson\, Stevie Ray Vaughn and Eric Clapton\, Jeff remains a performer through and through. With the option of playing acoustic solo or with a full band\, and with over 1000 shows of experience\, he is a suitable fit for everything from Weddings\, Wineries\, Private/Corporate functions\, huge crowds and small crowds. Whether you need Rock\, Folk\, Jazz\, Easy Listening or R&B\, Jeff can do it all.
URL:https://peakcellars.com/event/live-music-with-jeff-piattelli/
LOCATION:Peak Cellars\, 2290 Goldie Rd\, Lake Country\, BC\, V4V 1G5\, Canada
END:VEVENT
BEGIN:VEVENT
DTSTART;TZID=UTC:20250612T170000
DTEND;TZID=UTC:20250612T200000
DTSTAMP:20260419T171907
CREATED:20250507T212510Z
LAST-MODIFIED:20250507T212510Z
UID:4176-1749747600-1749758400@peakcellars.com
SUMMARY:Artist Boutique Night
DESCRIPTION:Enjoy an eclectic artist in motion as live ambiance art brings inspiration to energize and illuminate your dining experience \nUnique\, Innovative Live Art \nwith Jada Fire Kalika
URL:https://peakcellars.com/event/artist-boutique-night-3/
LOCATION:Peak Cellars\, 2290 Goldie Rd\, Lake Country\, BC\, V4V 1G5\, Canada
END:VEVENT
BEGIN:VEVENT
DTSTART;TZID=UTC:20250615T140000
DTEND;TZID=UTC:20250615T160000
DTSTAMP:20260419T171907
CREATED:20250507T220412Z
LAST-MODIFIED:20250507T220412Z
UID:4194-1749996000-1750003200@peakcellars.com
SUMMARY:Live Music with Summer Ice
DESCRIPTION:The Peak Cellars Summer Concert Series \nEvery Wednesday (6:00pm – 8:00pm) & Sunday (2:00pm – 4:00pm) \nNo Ticket Required\, Reservation Recommended \nArtist Bio: \nSummer Ice Jazz Quartet brings cool grooves and warm vibes to every stage they grace. Featuring Daniel Kim on trumpet\, Gary Taylor on guitar\, Gil Kafka on bass\, and Richard Knight on drums\, this seasoned group has been delighting audiences for years with their unique blend of jazz standards and jazz-infused takes on popular songs. \nDaniel Kim\, a skilled and sought-after trumpeter\, balances his life as a dedicated local dentist with his passion for music—his trumpet is never far from his side\, even at the clinic. His tone is rich\, expressive\, and full of character. \nGary Taylor\, a retired Realtor\, weaves unmistakable blues into his solos\, adding soulful depth to the group’s jazz palette. His improvisations are both tasteful and electrifying. \nGil Kafka\, a high school music teacher\, also a talented guitarist\, brings a melodic and lyrical approach to the bass\, often making it sing with emotion and groove. His musicality forms the heartbeat of the ensemble. \nRichard Knight\, retired educator\, anchors the band with dynamic and sensitive drumming. Equally at home in jazz\, blues\, rock and roll\, and big band settings\, he brings energy and versatility to every performance. \nAll four members are active in multiple musical projects\, from Latin ensembles and big bands to rock groups and even a Frank Sinatra tribute act—testament to their wide-ranging talents and deep love for music.
URL:https://peakcellars.com/event/live-music-with-summer-ice/
LOCATION:Peak Cellars\, 2290 Goldie Rd\, Lake Country\, BC\, V4V 1G5\, Canada
END:VEVENT
BEGIN:VEVENT
DTSTART;TZID=UTC:20250618T180000
DTEND;TZID=UTC:20250618T200000
DTSTAMP:20260419T171907
CREATED:20250507T220815Z
LAST-MODIFIED:20250507T220815Z
UID:4197-1750269600-1750276800@peakcellars.com
SUMMARY:Live Music with Dave Coalmine
DESCRIPTION:The Peak Cellars Summer Concert Series \nEvery Wednesday (6:00pm – 8:00pm) & Sunday (2:00pm – 4:00pm) \nNo Ticket Required\, Reservation Recommended
URL:https://peakcellars.com/event/live-music-with-dave-coalmine/
LOCATION:Peak Cellars\, 2290 Goldie Rd\, Lake Country\, BC\, V4V 1G5\, Canada
END:VEVENT
BEGIN:VEVENT
DTSTART;TZID=UTC:20250622T103000
DTEND;TZID=UTC:20250622T120000
DTSTAMP:20260419T171907
CREATED:20250507T212247Z
LAST-MODIFIED:20250507T212247Z
UID:4174-1750588200-1750593600@peakcellars.com
SUMMARY:Vino & Vinyasa with Jada Fire Kalika
DESCRIPTION:Outdoor yoga returns! Join us on select Sunday mornings this spring and summer for a 1.5-hour energizing flow session overlooking the vineyard\, capped off with a well-deserved glass of wine. Keep the relaxation going in our Garden Bistro afterward!
URL:https://peakcellars.com/event/vino-vinyasa-with-jada-fire-kalika-3/
LOCATION:Peak Cellars\, 2290 Goldie Rd\, Lake Country\, BC\, V4V 1G5\, Canada
END:VEVENT
BEGIN:VEVENT
DTSTART;TZID=UTC:20250622T140000
DTEND;TZID=UTC:20250622T160000
DTSTAMP:20260419T171907
CREATED:20250507T220950Z
LAST-MODIFIED:20250507T220950Z
UID:4199-1750600800-1750608000@peakcellars.com
SUMMARY:Live Music with Jeff Hansen
DESCRIPTION:The Peak Cellars Summer Concert Series \nEvery Wednesday (6:00pm – 8:00pm) & Sunday (2:00pm – 4:00pm) \nNo Ticket Required\, Reservation Recommended \nArtist Bio: \nJeff is a singer/songwriter and performer born in British Columbia\, Canada who has been playing music for many years. While he has played in music groups over the years his most recent style is a solo acoustic performance using looping to add an upbeat addition to his show. Jeff’s set lists are sure to strike a chord with all audiences. \nWhether you enjoy Classic Rock\, Country\, Oldies\, R&B\, or Original songs both fast and slow you will be sure to enjoy his performance. You are likely to hear covers of artists such as Tom Petty\, The Tragically Hip\, Gordon Lightfoot\, Brothers Osborne\, The Traveling Wilburys\, Amy Winehouse\, and more.
URL:https://peakcellars.com/event/live-music-with-jeff-hansen/
LOCATION:Peak Cellars\, 2290 Goldie Rd\, Lake Country\, BC\, V4V 1G5\, Canada
CATEGORIES:Live Music
END:VEVENT
BEGIN:VEVENT
DTSTART;TZID=UTC:20250625T180000
DTEND;TZID=UTC:20250625T200000
DTSTAMP:20260419T171907
CREATED:20250507T221652Z
LAST-MODIFIED:20250507T221652Z
UID:4202-1750874400-1750881600@peakcellars.com
SUMMARY:Live Music with Roseanarig
DESCRIPTION:The Peak Cellars Summer Concert Series \nEvery Wednesday (6:00pm – 8:00pm) & Sunday (2:00pm – 4:00pm) \nNo Ticket Required\, Reservation Recommended \nArtist Bio: \nAnnarose Thomson has been on the stage ever since she was a young girl. She grew up in a musical household and developed a love for classic country\, jazz\, blues and rock. Annarose is also a vocal teacher at her RoseColoured Vocals studio\, as well as leading her theatrical productions with her Vocal Vixens.\nPaolo Rigoni started playing guitar and performing in bands in the 1980’s.\nAnnarose and Paolo met in Spring 2023 and started performing in the Okanagan as Roseanarig. Their duo has entertained crowds with their unique interpretations of classic Rock\, Blues\, Jazz\, Country and Pop covers.
URL:https://peakcellars.com/event/live-music-with-roseanarig/
LOCATION:Peak Cellars\, 2290 Goldie Rd\, Lake Country\, BC\, V4V 1G5\, Canada
CATEGORIES:Live Music
END:VEVENT
BEGIN:VEVENT
DTSTART;TZID=UTC:20250626T170000
DTEND;TZID=UTC:20250626T200000
DTSTAMP:20260419T171907
CREATED:20250507T212552Z
LAST-MODIFIED:20250507T212552Z
UID:4178-1750957200-1750968000@peakcellars.com
SUMMARY:Artist Boutique Night
DESCRIPTION:Enjoy an eclectic artist in motion as live ambiance art brings inspiration to energize and illuminate your dining experience \nUnique\, Innovative Live Art \nwith Jada Fire Kalika
URL:https://peakcellars.com/event/artist-boutique-night-4/
LOCATION:Peak Cellars\, 2290 Goldie Rd\, Lake Country\, BC\, V4V 1G5\, Canada
END:VEVENT
BEGIN:VEVENT
DTSTART;TZID=UTC:20250629T140000
DTEND;TZID=UTC:20250629T160000
DTSTAMP:20260419T171907
CREATED:20250507T221926Z
LAST-MODIFIED:20250507T221926Z
UID:4207-1751205600-1751212800@peakcellars.com
SUMMARY:Live Music with Giselle Sanderson
DESCRIPTION:The Peak Cellars Summer Concert Series \nEvery Wednesday (6:00pm – 8:00pm) & Sunday (2:00pm – 4:00pm) \nNo Ticket Required\, Reservation Recommended \nArtist Bio: \nGiselle is a Canadian singer-songwriter whose musical journey has spanned over two decades\, marked by a career filled with both personal and professional growth. From her beginnings as a solo artist to becoming a prominent member of the JUNO and CCMA-nominated country trio LACE\, Giselle has solidified her place in the Canadian country music scene. Throughout her career\, she has built a reputation not only for her vocal talent but also for her exceptional skills as a songwriter. \nGiselle’s artistry has been shaped and honed under the guidance of some of the most respected producers in the industry\, including David Foster. These collaborations have helped refine her sound and elevate her career to new heights. Along the way\, she has had the privilege of sharing stages with country legends such as Keith Urban\, George Strait\, Brooks & Dunn\, and most recently\, John Rich (Big & Rich\, Lonestar). Her ability to connect with audiences and perform alongside such iconic figures speaks to her immense talent and versatility. \nA standout moment in Giselle’s career came when she proudly represented Canadian music by performing for Canadian troops in Afghanistan alongside Beverley Mahood\, further solidifying her commitment to both her craft and her country. \nGiselle’s latest project\, Worth the Wait\, showcases her growth as a songwriter\, with lyrics that are both deeply personal and universally resonant. Giselle’s songwriting has been recognized with multiple awards further proving her prowess in crafting songs that resonate with listeners. \nAs Giselle continues to evolve as both an artist and a songwriter\, her music remains a testament to the power of storytelling\, heartfelt emotion\, and timeless music.
URL:https://peakcellars.com/event/live-music-with-giselle-sanderson/
CATEGORIES:Live Music
END:VEVENT
END:VCALENDAR