BEGIN:VCALENDAR
VERSION:2.0
PRODID:-//Peak Cellars - ECPv6.14.1//NONSGML v1.0//EN
CALSCALE:GREGORIAN
METHOD:PUBLISH
X-ORIGINAL-URL:https://peakcellars.com
X-WR-CALDESC:Events for Peak Cellars
REFRESH-INTERVAL;VALUE=DURATION:PT1H
X-Robots-Tag:noindex
X-PUBLISHED-TTL:PT1H
BEGIN:VTIMEZONE
TZID:UTC
BEGIN:STANDARD
TZOFFSETFROM:+0000
TZOFFSETTO:+0000
TZNAME:UTC
DTSTART:20250101T000000
END:STANDARD
END:VTIMEZONE
BEGIN:VEVENT
DTSTART;TZID=UTC:20250514T180000
DTEND;TZID=UTC:20250514T200000
DTSTAMP:20260417T111547
CREATED:20250429T000154Z
LAST-MODIFIED:20250501T210952Z
UID:3144-1747245600-1747252800@peakcellars.com
SUMMARY:Live Music with Dave Coalmine
DESCRIPTION:The Peak Cellars Summer Concert Series \nEvery Wednesday (6:00pm – 8:00pm) & Sunday (2:00pm – 4:00pm) \nNo Ticket Required\, Reservation Recommended
URL:https://peakcellars.com/event/dave-coalmine/
LOCATION:Peak Cellars\, 2290 Goldie Rd\, Lake Country\, BC\, V4V 1G5\, Canada
CATEGORIES:Live Music
END:VEVENT
END:VCALENDAR