BEGIN:VCALENDAR
VERSION:2.0
PRODID:-//Peak Cellars - ECPv6.14.1//NONSGML v1.0//EN
CALSCALE:GREGORIAN
METHOD:PUBLISH
X-WR-CALNAME:Peak Cellars
X-ORIGINAL-URL:https://peakcellars.com
X-WR-CALDESC:Events for Peak Cellars
REFRESH-INTERVAL;VALUE=DURATION:PT1H
X-Robots-Tag:noindex
X-PUBLISHED-TTL:PT1H
BEGIN:VTIMEZONE
TZID:UTC
BEGIN:STANDARD
TZOFFSETFROM:+0000
TZOFFSETTO:+0000
TZNAME:UTC
DTSTART:20250101T000000
END:STANDARD
END:VTIMEZONE
BEGIN:VEVENT
DTSTART;VALUE=DATE:20250510
DTEND;VALUE=DATE:20250512
DTSTAMP:20260417T110405
CREATED:20250501T210240Z
LAST-MODIFIED:20250501T210240Z
UID:4037-1746835200-1747007999@peakcellars.com
SUMMARY:Mother's Day Lobster Feast
DESCRIPTION:Last year\, our Mother’s Day Lobster Feast drew over 700 guests – and this year\, it’s shaping up to be just as popular! \nDon’t miss your chance to celebrate Mom with a feature menu crafted for the occasion: \n\nMaritime Lobster Roll \n ¼ lb Lobster Meat\, Butter-Toasted Brioche Roll\, Lemon & Celery Aioli\, Sea Salt Kettle Chips \n39 \n  \nLobster Pasta \n6oz Butter-Poached Maritime Lobster Tail\, Homemade Bucatini\, Garlic Clams\, Olive Oil\, Fresh Herbs\, Shaved Parmesan \n49 \n  \nLobster Pizza \n¼ lb Maritime Lobster\, Garlic Cream Sauce\, Garden Pesto\, Spinach\, Lemon\, Fresh Mozzarella\, Prosciutto \n46 \n  \nTables are filling fast — book your reservation now and make it a Mother’s Day she’ll never forget!
URL:https://peakcellars.com/event/mothers-day-lobster-feast/
END:VEVENT
END:VCALENDAR